BEGIN:VCALENDAR
VERSION:2.0
PRODID:-//Vilniaus šv. Kristoforo progimnazija - ECPv5.8.2//NONSGML v1.0//EN
CALSCALE:GREGORIAN
METHOD:PUBLISH
X-WR-CALNAME:Vilniaus šv. Kristoforo progimnazija
X-ORIGINAL-URL:https://www.kristoforopro.lt
X-WR-CALDESC:Events for Vilniaus šv. Kristoforo progimnazija
BEGIN:VTIMEZONE
TZID:UTC
BEGIN:STANDARD
TZOFFSETFROM:+0000
TZOFFSETTO:+0000
TZNAME:UTC
DTSTART:20230101T000000
END:STANDARD
END:VTIMEZONE
BEGIN:VEVENT
DTSTART;TZID=UTC:20230426T130000
DTEND;TZID=UTC:20230426T170000
DTSTAMP:20260425T001926
CREATED:20230413T113126Z
LAST-MODIFIED:20230413T113157Z
UID:13849-1682514000-1682528400@www.kristoforopro.lt
SUMMARY:Progimnazijos 6–7 klasių mokinių technologijų olimpiada
DESCRIPTION:
URL:https://www.kristoforopro.lt/event/progimnazijos-6-7-klasiu-mokiniu-technologiju-olimpiada/
CATEGORIES:Progimnazija
END:VEVENT
END:VCALENDAR